BEGIN:VCALENDAR
VERSION:2.0
PRODID:-//Fyre Lake - ECPv6.15.20//NONSGML v1.0//EN
CALSCALE:GREGORIAN
METHOD:PUBLISH
X-ORIGINAL-URL:https://fyrelake.org
X-WR-CALDESC:Events for Fyre Lake
REFRESH-INTERVAL;VALUE=DURATION:PT1H
X-Robots-Tag:noindex
X-PUBLISHED-TTL:PT1H
BEGIN:VTIMEZONE
TZID:America/Chicago
BEGIN:DAYLIGHT
TZOFFSETFROM:-0600
TZOFFSETTO:-0500
TZNAME:CDT
DTSTART:20230312T080000
END:DAYLIGHT
BEGIN:STANDARD
TZOFFSETFROM:-0500
TZOFFSETTO:-0600
TZNAME:CST
DTSTART:20231105T070000
END:STANDARD
BEGIN:DAYLIGHT
TZOFFSETFROM:-0600
TZOFFSETTO:-0500
TZNAME:CDT
DTSTART:20240310T080000
END:DAYLIGHT
BEGIN:STANDARD
TZOFFSETFROM:-0500
TZOFFSETTO:-0600
TZNAME:CST
DTSTART:20241103T070000
END:STANDARD
BEGIN:DAYLIGHT
TZOFFSETFROM:-0600
TZOFFSETTO:-0500
TZNAME:CDT
DTSTART:20250309T080000
END:DAYLIGHT
BEGIN:STANDARD
TZOFFSETFROM:-0500
TZOFFSETTO:-0600
TZNAME:CST
DTSTART:20251102T070000
END:STANDARD
END:VTIMEZONE
BEGIN:VEVENT
DTSTART;TZID=America/Chicago:20241012T080000
DTEND;TZID=America/Chicago:20241012T160000
DTSTAMP:20260419T155514
CREATED:20240921T180759Z
LAST-MODIFIED:20240921T180759Z
UID:2142-1728720000-1728748800@fyrelake.org
SUMMARY:Fall Community Garage Sale
DESCRIPTION:We will be holding a Fall Community Garage Sale on Saturday\, October 12th from 8am until 4pm. Just like the Spring sale\, I will be putting together a map of participating homes. I will send out a message next week requesting addresses to include on the map.
URL:https://fyrelake.org/event/fall-community-garage-sale/
END:VEVENT
BEGIN:VEVENT
DTSTART;TZID=America/Chicago:20241019T160000
DTEND;TZID=America/Chicago:20241019T160000
DTSTAMP:20260419T155514
CREATED:20241009T020639Z
LAST-MODIFIED:20241009T020639Z
UID:2147-1729353600-1729353600@fyrelake.org
SUMMARY:Fyre Lake Halloween Party
DESCRIPTION:The Halloween party will be Saturday\, October 19th starting 4pm. This is a free event open to all Fyre Lake members and their families. Please see the flyer linked below for more information.
URL:https://fyrelake.org/event/fyre-lake-halloween-party-2/
LOCATION:Fyre Lake Covered Brige Park
END:VEVENT
BEGIN:VEVENT
DTSTART;TZID=America/Chicago:20241026T163000
DTEND;TZID=America/Chicago:20241026T183000
DTSTAMP:20260419T155514
CREATED:20240921T180601Z
LAST-MODIFIED:20241031T064726Z
UID:2140-1729960200-1729967400@fyrelake.org
SUMMARY:Fyre Lake Trick or Treat
DESCRIPTION:Trick or Treating for this year will be held on the Saturday before Halloween\, October 26th\, from 4:30pm until 6:30pm.
URL:https://fyrelake.org/event/fyre-lake-trick-or-treat/
END:VEVENT
END:VCALENDAR