BEGIN:VCALENDAR
VERSION:2.0
PRODID:-//Fyre Lake - ECPv6.15.20//NONSGML v1.0//EN
CALSCALE:GREGORIAN
METHOD:PUBLISH
X-WR-CALNAME:Fyre Lake
X-ORIGINAL-URL:https://fyrelake.org
X-WR-CALDESC:Events for Fyre Lake
REFRESH-INTERVAL;VALUE=DURATION:PT1H
X-Robots-Tag:noindex
X-PUBLISHED-TTL:PT1H
BEGIN:VTIMEZONE
TZID:America/Chicago
BEGIN:DAYLIGHT
TZOFFSETFROM:-0600
TZOFFSETTO:-0500
TZNAME:CDT
DTSTART:20230312T080000
END:DAYLIGHT
BEGIN:STANDARD
TZOFFSETFROM:-0500
TZOFFSETTO:-0600
TZNAME:CST
DTSTART:20231105T070000
END:STANDARD
BEGIN:DAYLIGHT
TZOFFSETFROM:-0600
TZOFFSETTO:-0500
TZNAME:CDT
DTSTART:20240310T080000
END:DAYLIGHT
BEGIN:STANDARD
TZOFFSETFROM:-0500
TZOFFSETTO:-0600
TZNAME:CST
DTSTART:20241103T070000
END:STANDARD
BEGIN:DAYLIGHT
TZOFFSETFROM:-0600
TZOFFSETTO:-0500
TZNAME:CDT
DTSTART:20250309T080000
END:DAYLIGHT
BEGIN:STANDARD
TZOFFSETFROM:-0500
TZOFFSETTO:-0600
TZNAME:CST
DTSTART:20251102T070000
END:STANDARD
END:VTIMEZONE
BEGIN:VEVENT
DTSTART;TZID=America/Chicago:20240831T090000
DTEND;TZID=America/Chicago:20240831T150000
DTSTAMP:20260419T193412
CREATED:20240630T200345Z
LAST-MODIFIED:20240630T200621Z
UID:2116-1725094800-1725116400@fyrelake.org
SUMMARY:2nd Annual Fyre Lake Car Show
DESCRIPTION:The 2nd Annual Fyre Lake Car Show will be held on Saturday August 31st located at the Swimmers Beach. A food truck will be available that will sell pulled pork\, brisket\, pulled pork mac N cheese\, turkey legs\, pulled pork fries\, and drinks. A new addition this year will be a Kona Ice truck to keep you cool. Come enjoy the day looking at great cars overlooking the lake\, delicious food\, and all within the company of your Fyre Lake community friends and family. And don’t forget\, all donations and proceeds go to a great charity helping kids!
URL:https://fyrelake.org/event/2nd-annual-fyre-lake-car-show/
LOCATION:Fyre Lake Swimmers Beach
END:VEVENT
END:VCALENDAR