BEGIN:VCALENDAR
VERSION:2.0
PRODID:-//Fyre Lake - ECPv6.15.20//NONSGML v1.0//EN
CALSCALE:GREGORIAN
METHOD:PUBLISH
X-WR-CALNAME:Fyre Lake
X-ORIGINAL-URL:https://fyrelake.org
X-WR-CALDESC:Events for Fyre Lake
REFRESH-INTERVAL;VALUE=DURATION:PT1H
X-Robots-Tag:noindex
X-PUBLISHED-TTL:PT1H
BEGIN:VTIMEZONE
TZID:America/Chicago
BEGIN:DAYLIGHT
TZOFFSETFROM:-0600
TZOFFSETTO:-0500
TZNAME:CDT
DTSTART:20230312T080000
END:DAYLIGHT
BEGIN:STANDARD
TZOFFSETFROM:-0500
TZOFFSETTO:-0600
TZNAME:CST
DTSTART:20231105T070000
END:STANDARD
BEGIN:DAYLIGHT
TZOFFSETFROM:-0600
TZOFFSETTO:-0500
TZNAME:CDT
DTSTART:20240310T080000
END:DAYLIGHT
BEGIN:STANDARD
TZOFFSETFROM:-0500
TZOFFSETTO:-0600
TZNAME:CST
DTSTART:20241103T070000
END:STANDARD
BEGIN:DAYLIGHT
TZOFFSETFROM:-0600
TZOFFSETTO:-0500
TZNAME:CDT
DTSTART:20250309T080000
END:DAYLIGHT
BEGIN:STANDARD
TZOFFSETFROM:-0500
TZOFFSETTO:-0600
TZNAME:CST
DTSTART:20251102T070000
END:STANDARD
END:VTIMEZONE
BEGIN:VEVENT
DTSTART;TZID=America/Chicago:20240704T213000
DTEND;TZID=America/Chicago:20240704T213000
DTSTAMP:20260419T212211
CREATED:20240630T195913Z
LAST-MODIFIED:20240630T195913Z
UID:2112-1720128600-1720128600@fyrelake.org
SUMMARY:4th of July Fireworks
DESCRIPTION:The fireworks will be held on Thursday\, July 4th and will start at 9:30pm. There will also be a lemonade truck operated by The Main Squeeze Lemonade Company set up down at the boat launch that day!
URL:https://fyrelake.org/event/4th-of-july-fireworks-2/
END:VEVENT
BEGIN:VEVENT
DTSTART;TZID=America/Chicago:20240706T083000
DTEND;TZID=America/Chicago:20240706T110000
DTSTAMP:20260419T212211
CREATED:20240630T200100Z
LAST-MODIFIED:20240630T200100Z
UID:2114-1720254600-1720263600@fyrelake.org
SUMMARY:Kid's Fishing Derby
DESCRIPTION:The Kid’s Fishing Derby will be held on Saturday\, July 6th at swimmer’s beach. Registration starts at 8:30am and fishing will be from 9-11am with food and prizes to follow. The Kid’s Fishing Derby is a fun\, free event put on by the Fyre Lake Sportsman’s Club and is open to all members and their families. The age groups are 1-7 years\, 8-12 years\, and 13-18 years.
URL:https://fyrelake.org/event/kids-fishing-derby/
LOCATION:Fyre Lake Swimmers Beach
END:VEVENT
END:VCALENDAR