BEGIN:VCALENDAR
VERSION:2.0
PRODID:-//Fyre Lake - ECPv6.15.20//NONSGML v1.0//EN
CALSCALE:GREGORIAN
METHOD:PUBLISH
X-WR-CALNAME:Fyre Lake
X-ORIGINAL-URL:https://fyrelake.org
X-WR-CALDESC:Events for Fyre Lake
REFRESH-INTERVAL;VALUE=DURATION:PT1H
X-Robots-Tag:noindex
X-PUBLISHED-TTL:PT1H
BEGIN:VTIMEZONE
TZID:America/Chicago
BEGIN:DAYLIGHT
TZOFFSETFROM:-0600
TZOFFSETTO:-0500
TZNAME:CDT
DTSTART:20230312T080000
END:DAYLIGHT
BEGIN:STANDARD
TZOFFSETFROM:-0500
TZOFFSETTO:-0600
TZNAME:CST
DTSTART:20231105T070000
END:STANDARD
BEGIN:DAYLIGHT
TZOFFSETFROM:-0600
TZOFFSETTO:-0500
TZNAME:CDT
DTSTART:20240310T080000
END:DAYLIGHT
BEGIN:STANDARD
TZOFFSETFROM:-0500
TZOFFSETTO:-0600
TZNAME:CST
DTSTART:20241103T070000
END:STANDARD
BEGIN:DAYLIGHT
TZOFFSETFROM:-0600
TZOFFSETTO:-0500
TZNAME:CDT
DTSTART:20250309T080000
END:DAYLIGHT
BEGIN:STANDARD
TZOFFSETFROM:-0500
TZOFFSETTO:-0600
TZNAME:CST
DTSTART:20251102T070000
END:STANDARD
END:VTIMEZONE
BEGIN:VEVENT
DTSTART;TZID=America/Chicago:20241012T080000
DTEND;TZID=America/Chicago:20241012T160000
DTSTAMP:20260419T174607
CREATED:20240921T180759Z
LAST-MODIFIED:20240921T180759Z
UID:2142-1728720000-1728748800@fyrelake.org
SUMMARY:Fall Community Garage Sale
DESCRIPTION:We will be holding a Fall Community Garage Sale on Saturday\, October 12th from 8am until 4pm. Just like the Spring sale\, I will be putting together a map of participating homes. I will send out a message next week requesting addresses to include on the map.
URL:https://fyrelake.org/event/fall-community-garage-sale/
END:VEVENT
END:VCALENDAR